Workbook

Sheet 汇总表
A1: 高州市2024年市属国有企业公开招聘一线员工和后勤服务人员面试成绩及入围体检人员名单
A3: 序号 | B3: 姓名 | C3: 报考单位 | D3: 岗位名称 | E3: 是否通过资格审核 | F3: 面试牌号 | G3: 面试室 | H3: 面试成绩 | I3: 招聘人数 | J3: 岗位排名 | K3: 是否入围体检
A4: 1 | B4: =REPLACE("邓梓轩",2,1,"*") -> 邓*轩 | C4: 广东果乡集团有限公司 | D4: 餐饮服务管理员 | E4: 是 | F4: 629 | G4: {=IFERROR(VLOOKUP(F4,IF({1,0},[1]汇总表!$B$4:$B$1001,[1]汇总表!$C$4:$C$1001),2,0),"0")} -> 1 | H4: {=IFERROR(VLOOKUP(F4,IF({1,0},[1]汇总表!$B$4:$B$1001,[1]汇总表!$L$4:$L$1001),2,0),"0")} -> 78.33 | I4: {=IFERROR(VLOOKUP(D4,IF({1,0},[1]岗位表!$C$2:$C$1001,[1]岗位表!$E$2:$E$1001),2,0),"")} -> 3 | J4: =IF(OR(F4="缺考",F4="放弃",F4="",H4="0"),"",SUMPRODUCT(($D$4:$D$1003=D4)*($H$4:$H$1003>H4))+1) -> 1 | K4: =IF(AND(J4<=I4,VALUE(H4)>=$N$1),"是","") -> 是
A5: 2 | B5: =REPLACE("江柯霖",2,1,"*") -> 江*霖 | C5: 广东果乡集团有限公司 | D5: 餐饮服务管理员 | E5: 是 | F5: 060 | G5: {=IFERROR(VLOOKUP(F5,IF({1,0},[1]汇总表!$B$4:$B$1001,[1]汇总表!$C$4:$C$1001),2,0),"0")} -> 1 | H5: {=IFERROR(VLOOKUP(F5,IF({1,0},[1]汇总表!$B$4:$B$1001,[1]汇总表!$L$4:$L$1001),2,0),"0")} -> 76.67 | I5: {=IFERROR(VLOOKUP(D5,IF({1,0},[1]岗位表!$C$2:$C$1001,[1]岗位表!$E$2:$E$1001),2,0),"")} -> 3 | J5: =IF(OR(F5="缺考",F5="放弃",F5="",H5="0"),"",SUMPRODUCT(($D$4:$D$1003=D5)*($H$4:$H$1003>H5))+1) -> 2 | K5: =IF(AND(J5<=I5,VALUE(H5)>=$N$1),"是","") -> 是
A6: 3 | B6: 钟*映 | C6: 广东果乡集团有限公司 | D6: 餐饮服务管理员 | E6: 是 | F6: 568 | G6: {=IFERROR(VLOOKUP(F6,IF({1,0},[1]汇总表!$B$4:$B$1001,[1]汇总表!$C$4:$C$1001),2,0),"0")} -> 1 | H6: {=IFERROR(VLOOKUP(F6,IF({1,0},[1]汇总表!$B$4:$B$1001,[1]汇总表!$L$4:$L$1001),2,0),"0")} -> 75.00 | I6: {=IFERROR(VLOOKUP(D6,IF({1,0},[1]岗位表!$C$2:$C$1001,[1]岗位表!$E$2:$E$1001),2,0),"")} -> 3 | J6: =IF(OR(F6="缺考",F6="放弃",F6="",H6="0"),"",SUMPRODUCT(($D$4:$D$1003=D6)*($H$4:$H$1003>H6))+1) -> 3 | K6: =IF(AND(J6<=I6,VALUE(H6)>=$N$1),"是","") -> 是
A7: 4 | B7: 何*清 | C7: 广东果乡集团有限公司 | D7: 餐饮服务管理员 | E7: 是 | F7: 620 | G7: {=IFERROR(VLOOKUP(F7,IF({1,0},[1]汇总表!$B$4:$B$1001,[1]汇总表!$C$4:$C$1001),2,0),"0")} -> 1 | H7: {=IFERROR(VLOOKUP(F7,IF({1,0},[1]汇总表!$B$4:$B$1001,[1]汇总表!$L$4:$L$1001),2,0),"0")} -> 65.00 | I7: {=IFERROR(VLOOKUP(D7,IF({1,0},[1]岗位表!$C$2:$C$1001,[1]岗位表!$E$2:$E$1001),2,0),"")} -> 3 | J7: =IF(OR(F7="缺考",F7="放弃",F7="",H7="0"),"",SUMPRODUCT(($D$4:$D$1003=D7)*($H$4:$H$1003>H7))+1) -> 4 | K7: =IF(AND(J7<=I7,VALUE(H7)>=$N$1),"是","")
A8: 5 | B8: 黄*鸿 | C8: 广东果乡集团有限公司 | D8: 餐饮服务管理员 | E8: 是 | F8: 622 | G8: {=IFERROR(VLOOKUP(F8,IF({1,0},[1]汇总表!$B$4:$B$1001,[1]汇总表!$C$4:$C$1001),2,0),"0")} -> 1 | H8: {=IFERROR(VLOOKUP(F8,IF({1,0},[1]汇总表!$B$4:$B$1001,[1]汇总表!$L$4:$L$1001),2,0),"0")} -> 63.33 | I8: {=IFERROR(VLOOKUP(D8,IF({1,0},[1]岗位表!$C$2:$C$1001,[1]岗位表!$E$2:$E$1001),2,0),"")} -> 3 | J8: =IF(OR(F8="缺考",F8="放弃",F8="",H8="0"),"",SUMPRODUCT(($D$4:$D$1003=D8)*($H$4:$H$1003>H8))+1) -> 5 | K8: =IF(AND(J8<=I8,VALUE(H8)>=$N$1),"是","")
A9: 6 | B9: 李*健 | C9: 广东果乡集团有限公司 | D9: 餐饮服务管理员 | E9: 是 | F9: 624 | G9: {=IFERROR(VLOOKUP(F9,IF({1,0},[1]汇总表!$B$4:$B$1001,[1]汇总表!$C$4:$C$1001),2,0),"0")} -> 1 | H9: {=IFERROR(VLOOKUP(F9,IF({1,0},[1]汇总表!$B$4:$B$1001,[1]汇总表!$L$4:$L$1001),2,0),"0")} -> 61.67 | I9: {=IFERROR(VLOOKUP(D9,IF({1,0},[1]岗位表!$C$2:$C$1001,[1]岗位表!$E$2:$E$1001),2,0),"")} -> 3 | J9: =IF(OR(F9="缺考",F9="放弃",F9="",H9="0"),"",SUMPRODUCT(($D$4:$D$1003=D9)*($H$4:$H$1003>H9))+1) -> 6 | K9: =IF(AND(J9<=I9,VALUE(H9)>=$N$1),"是","")
A10: 7 | B10: 沈*峰 | C10: 广东果乡集团有限公司 | D10: 餐饮服务管理员 | E10: 是 | F10: 262 | G10: {=IFERROR(VLOOKUP(F10,IF({1,0},[1]汇总表!$B$4:$B$1001,[1]汇总表!$C$4:$C$1001),2,0),"0")} -> 1 | H10: {=IFERROR(VLOOKUP(F10,IF({1,0},[1]汇总表!$B$4:$B$1001,[1]汇总表!$L$4:$L$1001),2,0),"0")} -> 61.67 | I10: {=IFERROR(VLOOKUP(D10,IF({1,0},[1]岗位表!$C$2:$C$1001,[1]岗位表!$E$2:$E$1001),2,0),"")} -> 3 | J10: =IF(OR(F10="缺考",F10="放弃",F10="",H10="0"),"",SUMPRODUCT(($D$4:$D$1003=D10)*($H$4:$H$1003>H10))+1) -> 6 | K10: =IF(AND(J10<=I10,VALUE(H10)>=$N$1),"是","")
A11: 8 | B11: 赖* | C11: 广东果乡集团有限公司 | D11: 畜禽屠宰工 | E11: 是 | F11: 716 | G11: {=IFERROR(VLOOKUP(F11,IF({1,0},[1]汇总表!$B$4:$B$1001,[1]汇总表!$C$4:$C$1001),2,0),"0")} -> 1 | H11: {=IFERROR(VLOOKUP(F11,IF({1,0},[1]汇总表!$B$4:$B$1001,[1]汇总表!$L$4:$L$1001),2,0),"0")} -> 81.67 | I11: {=IFERROR(VLOOKUP(D11,IF({1,0},[1]岗位表!$C$2:$C$1001,[1]岗位表!$E$2:$E$1001),2,0),"")} -> 4 | J11: =IF(OR(F11="缺考",F11="放弃",F11="",H11="0"),"",SUMPRODUCT(($D$4:$D$1003=D11)*($H$4:$H$1003>H11))+1) -> 1 | K11: =IF(AND(J11<=I11,VALUE(H11)>=$N$1),"是","") -> 是
A12: 9 | B12: 程*斯 | C12: 广东果乡集团有限公司 | D12: 畜禽屠宰工 | E12: 是 | F12: 521 | G12: {=IFERROR(VLOOKUP(F12,IF({1,0},[1]汇总表!$B$4:$B$1001,[1]汇总表!$C$4:$C$1001),2,0),"0")} -> 1 | H12: {=IFERROR(VLOOKUP(F12,IF({1,0},[1]汇总表!$B$4:$B$1001,[1]汇总表!$L$4:$L$1001),2,0),"0")} -> 78.33 | I12: {=IFERROR(VLOOKUP(D12,IF({1,0},[1]岗位表!$C$2:$C$1001,[1]岗位表!$E$2:$E$1001),2,0),"")} -> 4 | J12: =IF(OR(F12="缺考",F12="放弃",F12="",H12="0"),"",SUMPRODUCT(($D$4:$D$1003=D12)*($H$4:$H$1003>H12))+1) -> 2 | K12: =IF(AND(J12<=I12,VALUE(H12)>=$N$1),"是","") -> 是
A13: 10 | B13: 张*玲 | C13: 广东果乡集团有限公司 | D13: 畜禽屠宰工 | E13: 是 | F13: 848 | G13: {=IFERROR(VLOOKUP(F13,IF({1,0},[1]汇总表!$B$4:$B$1001,[1]汇总表!$C$4:$C$1001),2,0),"0")} -> 1 | H13: {=IFERROR(VLOOKUP(F13,IF({1,0},[1]汇总表!$B$4:$B$1001,[1]汇总表!$L$4:$L$1001),2,0),"0")} -> 76.67 | I13: {=IFERROR(VLOOKUP(D13,IF({1,0},[1]岗位表!$C$2:$C$1001,[1]岗位表!$E$2:$E$1001),2,0),"")} -> 4 | J13: =IF(OR(F13="缺考",F13="放弃",F13="",H13="0"),"",SUMPRODUCT(($D$4:$D$1003=D13)*($H$4:$H$1003>H13))+1) -> 3 | K13: =IF(AND(J13<=I13,VALUE(H13)>=$N$1),"是","") -> 是
A14: 11 | B14: 梁* | C14: 广东果乡集团有限公司 | D14: 畜禽屠宰工 | E14: 是 | F14: 021 | G14: {=IFERROR(VLOOKUP(F14,IF({1,0},[1]汇总表!$B$4:$B$1001,[1]汇总表!$C$4:$C$1001),2,0),"0")} -> 1 | H14: {=IFERROR(VLOOKUP(F14,IF({1,0},[1]汇总表!$B$4:$B$1001,[1]汇总表!$L$4:$L$1001),2,0),"0")} -> 76.67 | I14: {=IFERROR(VLOOKUP(D14,IF({1,0},[1]岗位表!$C$2:$C$1001,[1]岗位表!$E$2:$E$1001),2,0),"")} -> 4 | J14: =IF(OR(F14="缺考",F14="放弃",F14="",H14="0"),"",SUMPRODUCT(($D$4:$D$1003=D14)*($H$4:$H$1003>H14))+1) -> 3 | K14: =IF(AND(J14<=I14,VALUE(H14)>=$N$1),"是","") -> 是
A15: 12 | B15: 李*活 | C15: 广东果乡集团有限公司 | D15: 畜禽屠宰工 | E15: 是 | F15: 712 | G15: {=IFERROR(VLOOKUP(F15,IF({1,0},[1]汇总表!$B$4:$B$1001,[1]汇总表!$C$4:$C$1001),2,0),"0")} -> 1 | H15: {=IFERROR(VLOOKUP(F15,IF({1,0},[1]汇总表!$B$4:$B$1001,[1]汇总表!$L$4:$L$1001),2,0),"0")} -> 56.67 | I15: {=IFERROR(VLOOKUP(D15,IF({1,0},[1]岗位表!$C$2:$C$1001,[1]岗位表!$E$2:$E$1001),2,0),"")} -> 4 | J15: =IF(OR(F15="缺考",F15="放弃",F15="",H15="0"),"",SUMPRODUCT(($D$4:$D$1003=D15)*($H$4:$H$1003>H15))+1) -> 5 | K15: =IF(AND(J15<=I15,VALUE(H15)>=$N$1),"是","")
A16: 13 | B16: 丁* | C16: 广东果乡集团有限公司 | D16: 畜禽屠宰工 | E16: 是 | F16: 525 | G16: {=IFERROR(VLOOKUP(F16,IF({1,0},[1]汇总表!$B$4:$B$1001,[1]汇总表!$C$4:$C$1001),2,0),"0")} -> 1 | H16: {=IFERROR(VLOOKUP(F16,IF({1,0},[1]汇总表!$B$4:$B$1001,[1]汇总表!$L$4:$L$1001),2,0),"0")} -> 55.00 | I16: {=IFERROR(VLOOKUP(D16,IF({1,0},[1]岗位表!$C$2:$C$1001,[1]岗位表!$E$2:$E$1001),2,0),"")} -> 4 | J16: =IF(OR(F16="缺考",F16="放弃",F16="",H16="0"),"",SUMPRODUCT(($D$4:$D$1003=D16)*($H$4:$H$1003>H16))+1) -> 6 | K16: =IF(AND(J16<=I16,VALUE(H16)>=$N$1),"是","")
A17: 14 | B17: 程*雄 | C17: 广东果乡集团有限公司 | D17: 畜禽屠宰工 | E17: 是 | F17: 714 | G17: {=IFERROR(VLOOKUP(F17,IF({1,0},[1]汇总表!$B$4:$B$1001,[1]汇总表!$C$4:$C$1001),2,0),"0")} -> 1 | H17: {=IFERROR(VLOOKUP(F17,IF({1,0},[1]汇总表!$B$4:$B$1001,[1]汇总表!$L$4:$L$1001),2,0),"0")} -> 55.00 | I17: {=IFERROR(VLOOKUP(D17,IF({1,0},[1]岗位表!$C$2:$C$1001,[1]岗位表!$E$2:$E$1001),2,0),"")} -> 4 | J17: =IF(OR(F17="缺考",F17="放弃",F17="",H17="0"),"",SUMPRODUCT(($D$4:$D$1003=D17)*($H$4:$H$1003>H17))+1) -> 6 | K17: =IF(AND(J17<=I17,VALUE(H17)>=$N$1),"是","")
... A22: 19 | B22: 邓*彬 | C22: 广东果乡集团有限公司 | D22: 电工 | E22: 是 | F22: 384 | G22: {=IFERROR(VLOOKUP(F22,IF({1,0},[1]汇总表!$B$4:$B$1001,[1]汇总表!$C$4:$C$1001),2,0),"0")} -> 2 | H22: {=IFERROR(VLOOKUP(F22,IF({1,0},[1]汇总表!$B$4:$B$1001,[1]汇总表!$L$4:$L$1001),2,0),"0")} -> 76.67 | I22: {=IFERROR(VLOOKUP(D22,IF({1,0},[1]岗位表!$C$2:$C$1001,[1]岗位表!$E$2:$E$1001),2,0),"")} -> 3 | J22: =IF(OR(F22="缺考",F22="放弃",F22="",H22="0"),"",SUMPRODUCT(($D$4:$D$1003=D22)*($H$4:$H$1003>H22))+1) -> 2 | K22: =IF(AND(J22<=I22,VALUE(H22)>=$N$1),"是","") -> 是
A23: 20 | B23: 冯*斌 | C23: 广东果乡集团有限公司 | D23: 电工 | E23: 是 | F23: 387 | G23: {=IFERROR(VLOOKUP(F23,IF({1,0},[1]汇总表!$B$4:$B$1001,[1]汇总表!$C$4:$C$1001),2,0),"0")} -> 2 | H23: {=IFERROR(VLOOKUP(F23,IF({1,0},[1]汇总表!$B$4:$B$1001,[1]汇总表!$L$4:$L$1001),2,0),"0")} -> 58.33 | I23: {=IFERROR(VLOOKUP(D23,IF({1,0},[1]岗位表!$C$2:$C$1001,[1]岗位表!$E$2:$E$1001),2,0),"")} -> 3 | J23: =IF(OR(F23="缺考",F23="放弃",F23="",H23="0"),"",SUMPRODUCT(($D$4:$D$1003=D23)*($H$4:$H$1003>H23))+1) -> 3
A24: 21 | B24: 杨*华 | C24: 广东果乡集团有限公司 | D24: 电工 | E24: 是 | F24: 383 | G24: {=IFERROR(VLOOKUP(F24,IF({1,0},[1]汇总表!$B$4:$B$1001,[1]汇总表!$C$4:$C$1001),2,0),"0")} -> 2 | H24: {=IFERROR(VLOOKUP(F24,IF({1,0},[1]汇总表!$B$4:$B$1001,[1]汇总表!$L$4:$L$1001),2,0),"0")} -> 51.67 | I24: {=IFERROR(VLOOKUP(D24,IF({1,0},[1]岗位表!$C$2:$C$1001,[1]岗位表!$E$2:$E$1001),2,0),"")} -> 3 | J24: =IF(OR(F24="缺考",F24="放弃",F24="",H24="0"),"",SUMPRODUCT(($D$4:$D$1003=D24)*($H$4:$H$1003>H24))+1) -> 4 | K24: =IF(AND(J24<=I24,VALUE(H24)>=$N$1),"是","")
A25: 22 | B25: 张*君 | C25: 广东果乡集团有限公司 | D25: 糕点制作员 | E25: 是 | F25: 394 | G25: {=IFERROR(VLOOKUP(F25,IF({1,0},[1]汇总表!$B$4:$B$1001,[1]汇总表!$C$4:$C$1001),2,0),"0")} -> 2 | H25: {=IFERROR(VLOOKUP(F25,IF({1,0},[1]汇总表!$B$4:$B$1001,[1]汇总表!$L$4:$L$1001),2,0),"0")} -> 88.33 | I25: {=IFERROR(VLOOKUP(D25,IF({1,0},[1]岗位表!$C$2:$C$1001,[1]岗位表!$E$2:$E$1001),2,0),"")} -> 4 | J25: =IF(OR(F25="缺考",F25="放弃",F25="",H25="0"),"",SUMPRODUCT(($D$4:$D$1003=D25)*($H$4:$H$1003>H25))+1) -> 1 | K25: =IF(AND(J25<=I25,VALUE(H25)>=$N$1),"是","") -> 是
A26: 23 | B26: 陈*霞 | C26: 广东果乡集团有限公司 | D26: 糕点制作员 | E26: 是 | F26: 382 | G26: {=IFERROR(VLOOKUP(F26,IF({1,0},[1]汇总表!$B$4:$B$1001,[1]汇总表!$C$4:$C$1001),2,0),"0")} -> 2 | H26: {=IFERROR(VLOOKUP(F26,IF({1,0},[1]汇总表!$B$4:$B$1001,[1]汇总表!$L$4:$L$1001),2,0),"0")} -> 88.33 | I26: {=IFERROR(VLOOKUP(D26,IF({1,0},[1]岗位表!$C$2:$C$1001,[1]岗位表!$E$2:$E$1001),2,0),"")} -> 4 | J26: =IF(OR(F26="缺考",F26="放弃",F26="",H26="0"),"",SUMPRODUCT(($D$4:$D$1003=D26)*($H$4:$H$1003>H26))+1) -> 1 | K26: =IF(AND(J26<=I26,VALUE(H26)>=$N$1),"是","") -> 是
A27: 24 | B27: 邓*健 | C27: 广东果乡集团有限公司 | D27: 糕点制作员 | E27: 是 | F27: 388 | G27: {=IFERROR(VLOOKUP(F27,IF({1,0},[1]汇总表!$B$4:$B$1001,[1]汇总表!$C$4:$C$1001),2,0),"0")} -> 2 | H27: {=IFERROR(VLOOKUP(F27,IF({1,0},[1]汇总表!$B$4:$B$1001,[1]汇总表!$L$4:$L$1001),2,0),"0")} -> 85.00 | I27: {=IFERROR(VLOOKUP(D27,IF({1,0},[1]岗位表!$C$2:$C$1001,[1]岗位表!$E$2:$E$1001),2,0),"")} -> 4 | J27: =IF(OR(F27="缺考",F27="放弃",F27="",H27="0"),"",SUMPRODUCT(($D$4:$D$1003=D27)*($H$4:$H$1003>H27))+1) -> 3 | K27: =IF(AND(J27<=I27,VALUE(H27)>=$N$1),"是","") -> 是
A28: 25 | B28: 房*宁 | C28: 广东果乡集团有限公司 | D28: 糕点制作员 | E28: 是 | F28: 395 | G28: {=IFERROR(VLOOKUP(F28,IF({1,0},[1]汇总表!$B$4:$B$1001,[1]汇总表!$C$4:$C$1001),2,0),"0")} -> 2 | H28: {=IFERROR(VLOOKUP(F28,IF({1,0},[1]汇总表!$B$4:$B$1001,[1]汇总表!$L$4:$L$1001),2,0),"0")} -> 80.00 | I28: {=IFERROR(VLOOKUP(D28,IF({1,0},[1]岗位表!$C$2:$C$1001,[1]岗位表!$E$2:$E$1001),2,0),"")} -> 4 | J28: =IF(OR(F28="缺考",F28="放弃",F28="",H28="0"),"",SUMPRODUCT(($D$4:$D$1003=D28)*($H$4:$H$1003>H28))+1) -> 4 | K28: =IF(AND(J28<=I28,VALUE(H28)>=$N$1),"是","") -> 是
A29: 26 | B29: 冼*梅 | C29: 广东果乡集团有限公司 | D29: 糕点制作员 | E29: 是 | F29: 386 | G29: {=IFERROR(VLOOKUP(F29,IF({1,0},[1]汇总表!$B$4:$B$1001,[1]汇总表!$C$4:$C$1001),2,0),"0")} -> 2 | H29: {=IFERROR(VLOOKUP(F29,IF({1,0},[1]汇总表!$B$4:$B$1001,[1]汇总表!$L$4:$L$1001),2,0),"0")} -> 56.67 | I29: {=IFERROR(VLOOKUP(D29,IF({1,0},[1]岗位表!$C$2:$C$1001,[1]岗位表!$E$2:$E$1001),2,0),"")} -> 4 | J29: =IF(OR(F29="缺考",F29="放弃",F29="",H29="0"),"",SUMPRODUCT(($D$4:$D$1003=D29)*($H$4:$H$1003>H29))+1) -> 5 | K29: =IF(AND(J29<=I29,VALUE(H29)>=$N$1),"是","")
A30: 27 | B30: 李* | C30: 广东果乡集团有限公司 | D30: 糕点制作员 | E30: 是 | F30: 608 | G30: {=IFERROR(VLOOKUP(F30,IF({1,0},[1]汇总表!$B$4:$B$1001,[1]汇总表!$C$4:$C$1001),2,0),"0")} -> 2 | H30: {=IFERROR(VLOOKUP(F30,IF({1,0},[1]汇总表!$B$4:$B$1001,[1]汇总表!$L$4:$L$1001),2,0),"0")} -> 50.00 | I30: {=IFERROR(VLOOKUP(D30,IF({1,0},[1]岗位表!$C$2:$C$1001,[1]岗位表!$E$2:$E$1001),2,0),"")} -> 4 | J30: =IF(OR(F30="缺考",F30="放弃",F30="",H30="0"),"",SUMPRODUCT(($D$4:$D$1003=D30)*($H$4:$H$1003>H30))+1) -> 6 | K30: =IF(AND(J30<=I30,VALUE(H30)>=$N$1),"是","")
A31: 28 | B31: 张*霞 | C31: 广东果乡集团有限公司 | D31: 糕点制作员 | E31: 是 | F31: 609 | G31: {=IFERROR(VLOOKUP(F31,IF({1,0},[1]汇总表!$B$4:$B$1001,[1]汇总表!$C$4:$C$1001),2,0),"0")} -> 2 | H31: {=IFERROR(VLOOKUP(F31,IF({1,0},[1]汇总表!$B$4:$B$1001,[1]汇总表!$L$4:$L$1001),2,0),"0")} -> 33.33 | I31: {=IFERROR(VLOOKUP(D31,IF({1,0},[1]岗位表!$C$2:$C$1001,[1]岗位表!$E$2:$E$1001),2,0),"")} -> 4 | J31: =IF(OR(F31="缺考",F31="放弃",F31="",H31="0"),"",SUMPRODUCT(($D$4:$D$1003=D31)*($H$4:$H$1003>H31))+1) -> 7 | K31: =IF(AND(J31<=I31,VALUE(H31)>=$N$1),"是","")
A32: 29 | B32: 邓*清 | C32: 广东果乡集团有限公司 | D32: 后勤服务汽车驾驶员 | E32: 是 | F32: 371 | G32: {=IFERROR(VLOOKUP(F32,IF({1,0},[1]汇总表!$B$4:$B$1001,[1]汇总表!$C$4:$C$1001),2,0),"0")} -> 1 | H32: {=IFERROR(VLOOKUP(F32,IF({1,0},[1]汇总表!$B$4:$B$1001,[1]汇总表!$L$4:$L$1001),2,0),"0")} -> 83.33 | I32: {=IFERROR(VLOOKUP(D32,IF({1,0},[1]岗位表!$C$2:$C$1001,[1]岗位表!$E$2:$E$1001),2,0),"")} -> 1 | J32: =IF(OR(F32="缺考",F32="放弃",F32="",H32="0"),"",SUMPRODUCT(($D$4:$D$1003=D32)*($H$4:$H$1003>H32))+1) -> 1 | K32: =IF(AND(J32<=I32,VALUE(H32)>=$N$1),"是","") -> 是
A33: 30 | B33: 梁*添 | C33: 广东果乡集团有限公司 | D33: 后勤服务汽车驾驶员 | E33: 是 | F33: 625 | G33: {=IFERROR(VLOOKUP(F33,IF({1,0},[1]汇总表!$B$4:$B$1001,[1]汇总表!$C$4:$C$1001),2,0),"0")} -> 1 | H33: {=IFERROR(VLOOKUP(F33,IF({1,0},[1]汇总表!$B$4:$B$1001,[1]汇总表!$L$4:$L$1001),2,0),"0")} -> 60.00 | I33: {=IFERROR(VLOOKUP(D33,IF({1,0},[1]岗位表!$C$2:$C$1001,[1]岗位表!$E$2:$E$1001),2,0),"")} -> 1 | J33: =IF(OR(F33="缺考",F33="放弃",F33="",H33="0"),"",SUMPRODUCT(($D$4:$D$1003=D33)*($H$4:$H$1003>H33))+1) -> 2 | K33: =IF(AND(J33<=I33,VALUE(H33)>=$N$1),"是","")
A34: 31 | B34: 梁* | C34: 广东果乡集团有限公司 | D34: 后勤服务汽车驾驶员 | E34: 是 | F34: 529 | G34: {=IFERROR(VLOOKUP(F34,IF({1,0},[1]汇总表!$B$4:$B$1001,[1]汇总表!$C$4:$C$1001),2,0),"0")} -> 1 | H34: {=IFERROR(VLOOKUP(F34,IF({1,0},[1]汇总表!$B$4:$B$1001,[1]汇总表!$L$4:$L$1001),2,0),"0")} -> 48.33 | I34: {=IFERROR(VLOOKUP(D34,IF({1,0},[1]岗位表!$C$2:$C$1001,[1]岗位表!$E$2:$E$1001),2,0),"")} -> 1 | J34: =IF(OR(F34="缺考",F34="放弃",F34="",H34="0"),"",SUMPRODUCT(($D$4:$D$1003=D34)*($H$4:$H$1003>H34))+1) -> 3 | K34: =IF(AND(J34<=I34,VALUE(H34)>=$N$1),"是","")
A35: 32 | B35: 李*锋 | C35: 广东果乡集团有限公司 | D35: 后勤服务汽车驾驶员 | E35: 是 | F35: 719 | G35: {=IFERROR(VLOOKUP(F35,IF({1,0},[1]汇总表!$B$4:$B$1001,[1]汇总表!$C$4:$C$1001),2,0),"0")} -> 1 | H35: {=IFERROR(VLOOKUP(F35,IF({1,0},[1]汇总表!$B$4:$B$1001,[1]汇总表!$L$4:$L$1001),2,0),"0")} -> 46.67 | I35: {=IFERROR(VLOOKUP(D35,IF({1,0},[1]岗位表!$C$2:$C$1001,[1]岗位表!$E$2:$E$1001),2,0),"")} -> 1 | J35: =IF(OR(F35="缺考",F35="放弃",F35="",H35="0"),"",SUMPRODUCT(($D$4:$D$1003=D35)*($H$4:$H$1003>H35))+1) -> 4 | K35: =IF(AND(J35<=I35,VALUE(H35)>=$N$1),"是","")
... A67: 64 | B67: 黄*慧 | C67: 广东果乡集团有限公司 | D67: 收款员 | E67: 是 | F67: 526 | G67: {=IFERROR(VLOOKUP(F67,IF({1,0},[1]汇总表!$B$4:$B$1001,[1]汇总表!$C$4:$C$1001),2,0),"0")} -> 1 | H67: {=IFERROR(VLOOKUP(F67,IF({1,0},[1]汇总表!$B$4:$B$1001,[1]汇总表!$L$4:$L$1001),2,0),"0")} -> 50.00 | I67: {=IFERROR(VLOOKUP(D67,IF({1,0},[1]岗位表!$C$2:$C$1001,[1]岗位表!$E$2:$E$1001),2,0),"")} -> 3 | J67: =IF(OR(F67="缺考",F67="放弃",F67="",H67="0"),"",SUMPRODUCT(($D$4:$D$1003=D67)*($H$4:$H$1003>H67))+1) -> 10 | K67: =IF(AND(J67<=I67,VALUE(H67)>=$N$1),"是","")
A68: 65 | B68: 陈昶宇 | C68: 高州市鉴龙水务建设投资集团有限公司 | D68: 汽车驾驶员 | E68: 是 | F68: 2 | G68: 2 | H68: 90 | I68: 1 | J68: 1 | K68: 是
A69: 66 | B69: 江*涛 | C69: 高州市鉴龙水务建设投资集团有限公司 | D69: 汽车驾驶员 | E69: 是 | F69: 5 | G69: 2 | H69: 78.33 | I69: 1 | J69: 2
A70: 67 | B70: 区*聪 | C70: 高州市鉴龙水务建设投资集团有限公司 | D70: 汽车驾驶员 | E70: 是 | F70: 10 | G70: 2 | H70: 75 | I70: 1 | J70: 3
A71: 68 | B71: 车* | C71: 高州市鉴龙水务建设投资集团有限公司 | D71: 汽车驾驶员 | E71: 是 | F71: 12 | G71: 2 | H71: 75 | I71: 1 | J71: 3
A72: 69 | B72: 曾* | C72: 高州市鉴龙水务建设投资集团有限公司 | D72: 汽车驾驶员 | E72: 是 | F72: 11 | G72: 2 | H72: 68.33 | I72: 1 | J72: 4
A73: 70 | B73: 华*恒 | C73: 高州市鉴龙水务建设投资集团有限公司 | D73: 汽车驾驶员 | E73: 是 | F73: 3 | G73: 2 | H73: 66.67 | I73: 1 | J73: 5
A74: 71 | B74: 何* | C74: 高州市鉴龙水务建设投资集团有限公司 | D74: 汽车驾驶员 | E74: 是 | F74: 4 | G74: 2 | H74: 61.67 | I74: 1 | J74: 6
A75: 72 | B75: 陈*东 | C75: 高州市鉴龙水务建设投资集团有限公司 | D75: 汽车驾驶员 | E75: 是 | F75: 9 | G75: 2 | H75: 56.67 | I75: 1 | J75: 7
A76: 73 | B76: 龙*健 | C76: 高州市鉴龙水务建设投资集团有限公司 | D76: 汽车驾驶员 | E76: 是 | F76: 6 | G76: 2 | H76: 53.33 | I76: 1 | J76: 8
A77: 74 | B77: 卢*杰 | C77: 高州市鉴龙水务建设投资集团有限公司 | D77: 汽车驾驶员 | E77: 是 | F77: 8 | G77: 2 | H77: 48.33 | I77: 1 | J77: 9
A78: 75 | B78: 张*伟 | C78: 高州市鉴龙水务建设投资集团有限公司 | D78: 汽车驾驶员 | E78: 是 | F78: 1 | G78: 2 | H78: 48.33 | I78: 1 | J78: 9
A79: 76 | B79: 吕*荣 | C79: 高州市鉴龙水务建设投资集团有限公司 | D79: 汽车驾驶员 | E79: 是 | F79: 7 | G79: 2 | H79: 48.33 | I79: 1 | J79: 9
